BEGIN:VCALENDAR
VERSION:2.0
PRODID:-//Türk Karaciğer Vakfı//NONSGML kigkonsult.se iCalcreator 2.41.92//
CALSCALE:GREGORIAN
METHOD:PUBLISH
UID:30643439-3061-4531-b361-306433643738
X-WR-CALNAME:iCagenda
X-WR-CALDESC:Event Management Extension for Joomla!
X-WR-RELCALID:3E26604A-50F4-4449-8B3E-E4F4932D05B5
X-WR-TIMEZONE:Europe/Istanbul
BEGIN:VTIMEZONE
TZID:Europe/Istanbul
TZUNTIL:20160906T210000Z
BEGIN:STANDARD
TZNAME:EET
DTSTART:20141026T040000
TZOFFSETFROM:+0300
TZOFFSETTO:+0200
RDATE:20151108T040000
END:STANDARD
BEGIN:DAYLIGHT
TZNAME:EEST
DTSTART:20140331T030000
TZOFFSETFROM:+0200
TZOFFSETTO:+0300
RDATE:20150329T030000
RDATE:20160327T030000
END:DAYLIGHT
END:VTIMEZONE
BEGIN:VEVENT
UID:39636462-3065-4138-b937-383164363635
DTSTAMP:20260420T073243Z
CATEGORIES:Etkinlik
CLASS:PUBLIC
DESCRIPTION:
DTSTART:20150220T120000Z
DTEND:20150220T130000Z
GEO:+41.073757;+29.01199
LOCATION:Zincirlikuyu Mezarlığı
ORGANIZER:
SEQUENCE:1
SUMMARY:Muzaffer Gürakar Hocamızı Anma Töreni
TRANSP:OPAQUE
URL:http://www.tkcv.org/vakif-hakkinda/etkinlikler/bitmis-etkinlikler/7-muz
 affer-gurakar-hocamizi-anma-toreni
END:VEVENT
END:VCALENDAR
