BEGIN:VCALENDAR
VERSION:2.0
PRODID:-//Türk Karaciğer Vakfı//NONSGML kigkonsult.se iCalcreator 2.41.92//
CALSCALE:GREGORIAN
METHOD:PUBLISH
UID:38323561-3364-4336-a631-616536623937
X-WR-CALNAME:iCagenda
X-WR-CALDESC:Event Management Extension for Joomla!
X-WR-RELCALID:3E26604A-50F4-4449-8B3E-E4F4932D05B5
X-WR-TIMEZONE:Europe/Istanbul
BEGIN:VTIMEZONE
TZID:Europe/Istanbul
BEGIN:STANDARD
TZNAME:+03
DTSTART:20160907T000000
TZOFFSETFROM:+0300
TZOFFSETTO:+0300
END:STANDARD
END:VTIMEZONE
BEGIN:VEVENT
UID:61383939-3337-4133-a237-333535303138
DTSTAMP:20260421T104805Z
CATEGORIES:Etkinlik
CLASS:PUBLIC
DESCRIPTION;ALTREP="CID:<FFFF__=0ABBE548DFE235B58f9e8a93d@coffeebean.com>":
 Avukat Mehmet Yağcı Anısına\n\n\n\n13.30\nTanışma ve İkram\n\n\n14.00-14.3
 0\nAçılış Konuşmaları\n\n\n&nbsp\;\nAv. Mehmet Durakoğlu - İstanbul Barosu
  BaşkanıProf. Dr. Pervin Somer -&nbsp\;İstanbul Barosu Sağlık Hukuku Merke
 zi BaşkanıDr. Hial Ünalmış Duda - HepYaşam Derneği BaşkanıProf. Dr. Yılmaz
  Çakaloğlu - Türk Karaciğer Vakfı Başkanı\n\n\n14.30-14.45\n\nÖzel Sunumla
 r\nTürk Karaciğer Vakfı Kurucu Üyesi Avukat Mehmet Yağcı Anısına Sunum - D
 r. Karabet Yayla (TKCV Yönetim Kurulu Üyesi)Türk Karaciğer Vakfı Hakkında 
 Sunum - Dr. Necmi Sınanmış - (TKCV 2. Başkanı)Hepatitle Yaşam Hasta ve Has
 ta Yakınları Derneği Hakkında Sunum - Defne Feyza Elagöz (HepYaşam 2. Başk
 anı)\n\n\n14.45-15.45\n\nI. OTURUM\nOturum BaşkanlarıAv. Süreyya Turan (İs
 tanbul Barosu Yönetim Kurulu Üyesi)Prof. Dr. Levent Erdem (TKCV&nbsp\;Yöne
 tim Kurulu Üyesi)\n\n\n14.45-15.00\nHasta Hakları Konusunda Genel Değerlen
 dirme - Prof. Dr. Özlem Yenerer Çakmut (İstanbul Barosu Sağlık Hukuku Merk
 ezi Başkan Yardımcısı)\n\n\n15.00-15.15\nKaraciğer Hastalıkları ve Sağlık 
 Hukuku: Gerçek Yaşamdan Kesitller - Prof. Dr. Yılmaz Çakaloğlu\n\n\n15.15-
 15.30\nBir Karaciğer Nakli Hastasının Hukuk Mücadelesi - Nevzat Gökmen\n\n
 \n15.30-15.45\nTartışma\, Soru ve Katkılar\n\n\n15.45-16.00\nKahve arası\n
 \n\n16.00-17.00\n\nII. OTURUM\nOturum BaşkanlarıProf. Dr. Özlem Yenerer Ça
 kmutDr. Hilal Ünalmış Duda\n\n\n16.00-16.15\nMedeni Hukuk Perspektifinden 
 Özellikli Sorunlar - Prof. Dr. Pervin Somer\n\n\n16.15-16.30\nİş Hukukunda
  Hepatit Hastalarının Ayrımcılığa ve Feshe karşı Korunması - Yrd. Doç. Dr.
  Emre Ertan (TKCV Yönetim Kurulu Üyesi)\n\n\n16.30-16.45\nHepatitle İlgili
  Örnek Hukuk Vakaları - Av. Sunay Akyıldız\n\n\n16.45-17.00\nTartışma\, So
 ru ve Katkılar\n\n\n17.00\nKapanış\n\n\n\n&nbsp\;
DTSTART:20180105T110000Z
DTEND:20180105T140000Z
GEO:+41.069195;+28.979893
LOCATION:İstabul Adalet Sarayı Konferans Salonu
ORGANIZER;CN=:mailto:turkkaracigervakfi@yahoo.com.tr
SEQUENCE:1
SUMMARY:Karaciğer Hastalarının Hukuki Sorunları Paneli
TRANSP:OPAQUE
URL:http://www.tkcv.org/vakif-hakkinda/etkinlikler/bitmis-etkinlikler/40-ka
 raciger-hastalarinin-hukuki-sorunlari-paneli?iccaldate=2026-3-1
END:VEVENT
END:VCALENDAR
