BEGIN:VCALENDAR
VERSION:2.0
PRODID:-//Türk Karaciğer Vakfı//NONSGML kigkonsult.se iCalcreator 2.41.92//
CALSCALE:GREGORIAN
METHOD:PUBLISH
UID:61666339-6534-4662-b435-323262653932
X-WR-CALNAME:iCagenda
X-WR-CALDESC:Event Management Extension for Joomla!
X-WR-RELCALID:3E26604A-50F4-4449-8B3E-E4F4932D05B5
X-WR-TIMEZONE:Europe/Istanbul
BEGIN:VTIMEZONE
TZID:Europe/Istanbul
BEGIN:STANDARD
TZNAME:EET
DTSTART:20141026T040000
TZOFFSETFROM:+0300
TZOFFSETTO:+0200
RDATE:20151108T040000
END:STANDARD
BEGIN:STANDARD
TZNAME:+03
DTSTART:20160907T000000
TZOFFSETFROM:+0300
TZOFFSETTO:+0300
END:STANDARD
BEGIN:DAYLIGHT
TZNAME:EEST
DTSTART:20150329T030000
TZOFFSETFROM:+0200
TZOFFSETTO:+0300
RDATE:20160327T030000
END:DAYLIGHT
END:VTIMEZONE
BEGIN:VEVENT
UID:63306330-3462-4930-b935-376434393536
DTSTAMP:20260419T190723Z
CATEGORIES:Etkinlik
CLASS:PUBLIC
DESCRIPTION;ALTREP="CID:<FFFF__=0ABBE548DFE235B58f9e8a93d@coffeebean.com>":
 Açılış Kokteyli: 16 Mayıs 2015 - Cumartesi - Saat 14.00-17.00 arası\nSergi
  16 Mayıs - 30 Mayıs tarihleri arasında 11.00-17.00 saatleri arasında gezi
 lebilir.
DTSTART:20150516T080000Z
DTEND:20150530T140000Z
GEO:+41.058689;+28.986801
LOCATION:Türk Karaciğer Vakfı
ORGANIZER:
SEQUENCE:1
SUMMARY:Karma Resim Sergisi
TRANSP:OPAQUE
URL:http://www.tkcv.org/vakif-hakkinda/etkinlikler/bitmis-etkinlikler/4-kar
 ma-resim-sergisi
END:VEVENT
END:VCALENDAR
