BEGIN:VCALENDAR
VERSION:2.0
PRODID:-//Türk Karaciğer Vakfı//NONSGML kigkonsult.se iCalcreator 2.41.92//
CALSCALE:GREGORIAN
METHOD:PUBLISH
UID:65653133-3866-4866-b435-376561353763
X-WR-CALNAME:iCagenda
X-WR-CALDESC:Event Management Extension for Joomla!
X-WR-RELCALID:3E26604A-50F4-4449-8B3E-E4F4932D05B5
X-WR-TIMEZONE:Europe/Istanbul
BEGIN:VTIMEZONE
TZID:Europe/Istanbul
BEGIN:STANDARD
TZNAME:EET
DTSTART:20151108T040000
TZOFFSETFROM:+0300
TZOFFSETTO:+0200
END:STANDARD
BEGIN:STANDARD
TZNAME:+03
DTSTART:20160907T000000
TZOFFSETFROM:+0300
TZOFFSETTO:+0300
END:STANDARD
BEGIN:DAYLIGHT
TZNAME:EEST
DTSTART:20160327T030000
TZOFFSETFROM:+0200
TZOFFSETTO:+0300
END:DAYLIGHT
END:VTIMEZONE
BEGIN:VEVENT
UID:35353133-6135-4566-b034-306362373362
DTSTAMP:20260419T121252Z
CATEGORIES:Etkinlik
CLASS:PUBLIC
DESCRIPTION;ALTREP="CID:<FFFF__=0ABBE548DFE235B58f9e8a93d@coffeebean.com>":
 Geleneksel Kahvaltımızda birlikte olmak dileğiyle!\nProf. Dr. Yılmaz &Cced
 il\;AKALOĞLUTKCV Başkanı
DTSTART:20160605T073000Z
DTEND:20160605T103000Z
GEO:+41.028576;+29.016237
LOCATION:Artha Gezi Teknesi
ORGANIZER:
SEQUENCE:1
SUMMARY:Geleneksel Kahvaltı - 2016
TRANSP:OPAQUE
URL:http://www.tkcv.org/vakif-hakkinda/etkinlikler/bitmis-etkinlikler/31-ge
 leneksel-kahvalti-2016
END:VEVENT
END:VCALENDAR
