BEGIN:VCALENDAR
VERSION:2.0
PRODID:-//Türk Karaciğer Vakfı//NONSGML kigkonsult.se iCalcreator 2.41.92//
CALSCALE:GREGORIAN
METHOD:PUBLISH
UID:65633433-3963-4336-b461-303435326335
X-WR-CALNAME:iCagenda
X-WR-CALDESC:Event Management Extension for Joomla!
X-WR-RELCALID:3E26604A-50F4-4449-8B3E-E4F4932D05B5
X-WR-TIMEZONE:Europe/Istanbul
BEGIN:VTIMEZONE
TZID:Europe/Istanbul
BEGIN:STANDARD
TZNAME:EET
DTSTART:20151108T040000
TZOFFSETFROM:+0300
TZOFFSETTO:+0200
END:STANDARD
BEGIN:STANDARD
TZNAME:+03
DTSTART:20160907T000000
TZOFFSETFROM:+0300
TZOFFSETTO:+0300
END:STANDARD
BEGIN:DAYLIGHT
TZNAME:EEST
DTSTART:20160327T030000
TZOFFSETFROM:+0200
TZOFFSETTO:+0300
END:DAYLIGHT
END:VTIMEZONE
BEGIN:VEVENT
UID:32643163-3866-4332-a135-616164353630
DTSTAMP:20260419T134505Z
CATEGORIES:Seminer
CLASS:PUBLIC
DESCRIPTION;ALTREP="CID:<FFFF__=0ABBE548DFE235B58f9e8a93d@coffeebean.com>":
 İstanbul'da 13-15 Mayıs 2016 tarihinde İstanbul Tıp Fak&uuml\;ltesi &Ccedi
 l\;apa yerleşkesinde d&uuml\;zenlenecek olan\, 25. Uluslararası Tıp Biliml
 eri &Ouml\;ğrenci Kongresine (IMSSC) davet edildik.I30 &uuml\;lkeden 350 T
 ıp alanında araştırmalar yapan &ouml\;ğrencilerin katıldığı b&uuml\;y&uuml
 \;k bir bilimsel kongre organizasyonudur.15 Mayıs Pazar g&uuml\;n&uuml\;\,
  14.10 - 15.00 saatleri arasında TKCV Başkanı Prof.Dr.Yılmaz &Ccedil\;akal
 oğlu tarafından da bir sunum ger&ccedil\;ekleştirilecektir.\nAyrıntılı Kon
 gre Programı i&ccedil\;in tıklayınız!
DTSTART:20160513T050000Z
DTEND:20160515T140000Z
GEO:+41.016819;+28.934086
LOCATION:İstanbul Tıp Fakültesi
ORGANIZER;CN=:mailto:turkkaracigervakfi@yahoo.com.tr
SEQUENCE:1
SUMMARY:25. Uluslararası Tıp Bilimleri Öğrenci Kongresi (IMSSC)
TRANSP:OPAQUE
URL:http://www.tkcv.org/vakif-hakkinda/etkinlikler/bitmis-etkinlikler/30-25
 -uluslararas-t-p-bilimleri-oegrenci-kongresi-imssc
END:VEVENT
END:VCALENDAR
