BEGIN:VCALENDAR
VERSION:2.0
PRODID:-//Türk Karaciğer Vakfı//NONSGML kigkonsult.se iCalcreator 2.41.92//
CALSCALE:GREGORIAN
METHOD:PUBLISH
UID:63656438-3032-4237-a266-306135636131
X-WR-CALNAME:iCagenda
X-WR-CALDESC:Event Management Extension for Joomla!
X-WR-RELCALID:3E26604A-50F4-4449-8B3E-E4F4932D05B5
X-WR-TIMEZONE:Europe/Istanbul
BEGIN:VTIMEZONE
TZID:Europe/Istanbul
TZUNTIL:20150329T010000Z
BEGIN:STANDARD
TZNAME:EET
DTSTART:20121028T040000
TZOFFSETFROM:+0300
TZOFFSETTO:+0200
RDATE:20131027T040000
RDATE:20141026T040000
END:STANDARD
BEGIN:DAYLIGHT
TZNAME:EEST
DTSTART:20130331T030000
TZOFFSETFROM:+0200
TZOFFSETTO:+0300
RDATE:20140331T030000
END:DAYLIGHT
END:VTIMEZONE
BEGIN:VEVENT
UID:34346661-3636-4266-b030-333162643462
DTSTAMP:20260420T132725Z
CATEGORIES:Bilgilendirme Toplantısı
CLASS:PUBLIC
DESCRIPTION;ALTREP="CID:<FFFF__=0ABBE548DFE235B58f9e8a93d@coffeebean.com>":
 Konuşmacılar:\nProf. Dr. Yılmaz ÇakaloğluProf. Dr. Perihan AkınDr. Hilal Ü
 nalmış Duda\nViral hepatitler ile ilgili bilgilendirme toplantısı.
DTSTART:20130530T103000Z
DTEND:20130530T103000Z
GEO:+40.991516;+28.796707
LOCATION:İstanbul Aydın Üniversitesi Florya Kampüsü
ORGANIZER;CN=:mailto:turkkaracigervakfi@yahoo.com.tr
SEQUENCE:1
SUMMARY:Viral Hepatit: Bilgilen\, Korun\, Tedavi Ol!
TRANSP:OPAQUE
URL:http://www.tkcv.org/vakif-hakkinda/etkinlikler/bitmis-etkinlikler/22-vi
 ral-hepatit-bilgilen-korun-tedavi-ol/2013-05-30-13-30
END:VEVENT
END:VCALENDAR
