BEGIN:VCALENDAR
VERSION:2.0
PRODID:-//Türk Karaciğer Vakfı//NONSGML kigkonsult.se iCalcreator 2.41.92//
CALSCALE:GREGORIAN
METHOD:PUBLISH
UID:62376534-6665-4234-b863-633966333039
X-WR-CALNAME:iCagenda
X-WR-CALDESC:Event Management Extension for Joomla!
X-WR-RELCALID:3E26604A-50F4-4449-8B3E-E4F4932D05B5
X-WR-TIMEZONE:Europe/Istanbul
BEGIN:VTIMEZONE
TZID:Europe/Istanbul
TZUNTIL:20150329T010000Z
BEGIN:STANDARD
TZNAME:EET
DTSTART:20121028T040000
TZOFFSETFROM:+0300
TZOFFSETTO:+0200
RDATE:20131027T040000
RDATE:20141026T040000
END:STANDARD
BEGIN:DAYLIGHT
TZNAME:EEST
DTSTART:20130331T030000
TZOFFSETFROM:+0200
TZOFFSETTO:+0300
RDATE:20140331T030000
END:DAYLIGHT
END:VTIMEZONE
BEGIN:VEVENT
UID:33383365-6665-4530-a333-303132393938
DTSTAMP:20260423T113719Z
CATEGORIES:Etkinlik
CLASS:PUBLIC
DESCRIPTION;ALTREP="CID:<FFFF__=0ABBE548DFE235B58f9e8a93d@coffeebean.com>":
 6. Dünya Hepatit Günü ve Guiness Dünya Rekoru Etkinliği
DTSTART:20130728T070000Z
DTEND:20130728T100000Z
GEO:+40.991535;+29.022499
LOCATION:Kadıköy İskele Meydanı
ORGANIZER;CN=:mailto:turkkaracigervakfi@yahoo.com.tr
SEQUENCE:1
SUMMARY:Dünya Hepatit Günü - 2013
TRANSP:OPAQUE
URL:http://www.tkcv.org/vakif-hakkinda/etkinlikler/bitmis-etkinlikler/21-du
 nya-hepatit-gunu-2013?layout=vcal
END:VEVENT
END:VCALENDAR
