BEGIN:VCALENDAR
VERSION:2.0
PRODID:-//Türk Karaciğer Vakfı//NONSGML kigkonsult.se iCalcreator 2.41.92//
CALSCALE:GREGORIAN
METHOD:PUBLISH
UID:31326564-3562-4864-b464-333939633432
X-WR-CALNAME:iCagenda
X-WR-CALDESC:Event Management Extension for Joomla!
X-WR-RELCALID:3E26604A-50F4-4449-8B3E-E4F4932D05B5
X-WR-TIMEZONE:Europe/Istanbul
BEGIN:VTIMEZONE
TZID:Europe/Istanbul
TZUNTIL:20151108T010000Z
BEGIN:STANDARD
TZNAME:EET
DTSTART:20131027T040000
TZOFFSETFROM:+0300
TZOFFSETTO:+0200
RDATE:20141026T040000
END:STANDARD
BEGIN:DAYLIGHT
TZNAME:EEST
DTSTART:20130331T030000
TZOFFSETFROM:+0200
TZOFFSETTO:+0300
RDATE:20140331T030000
RDATE:20150329T030000
END:DAYLIGHT
END:VTIMEZONE
BEGIN:VEVENT
UID:63326239-3362-4361-a464-316361653539
DTSTAMP:20260420T092706Z
CATEGORIES:Bilgilendirme Toplantısı
CLASS:PUBLIC
DESCRIPTION;ALTREP="CID:<FFFF__=0ABBE548DFE235B58f9e8a93d@coffeebean.com>":
 I. Ulusal Sosyal Yönleriyle Hepatit Sempozyumu\n7-8-9 Kasım 2013Yer: İstan
 bul Üniversitesi Yeni Kongre Kültür Merkezi (BEYAZIT)\nDüzenleyiciler:\n\n
 İstanbul Üniversitesi Sosyal Sorumluluk Uygulama ve Araştırma Merkezi\nHep
 atitle Yaşam Hasta ve Hasta Yakınları Toplumsal Bilgilendirme\, Dayanışma 
 ve Yardımlaşma Derneği\n\nKatkıda Bulunan Kuruluşlar :\n\nViral Hepatitle 
 Savaşım Derneği\nTürk Karaciğer Vakfı\n\nBaşkanlar : Prof. Dr. Seçkin Dind
 ar - Dr. Hilal Ünalmış Duda\nSEMPOZYUM PROGRAMI\n1. gün: 7 Kasım 2013 İsta
 nbul Üniversitesi Merkez Yerleşke Bahçesiİstanbul Üniversitesi öğrencileri
 ne yönelik Hepatit Farkındalık Çalışmaları (Konuşmalar\, stand-up gösteril
 eri\, konser\, bilgi masaları )\n2. gün : 8 Kasım 2013 İstanbul Üniversite
 si Kongre Kültür Merkezi-Beyazıt\n10:00-10:30 Açılış Dr. Hilal Ünalmış Dud
 a (HepYaşam Derneği Başkanı)Prof. Dr. Seçkin Dindar (İ.Ü. Sosyal Sorumlulu
 k Uygulama Araştırma Merkezi Müdürü) Prof. Dr. Yunus Söylet (İ.Ü. Rektörü)
 \n10:30-10:45 Mini Konser\n10.45-11:45 Açılış Konferansı  Oturum Başkanı: 
 Prof. Dr. Nurdan Tüzün (Türk Karaciğer Vakfı)  Prof. Dr. Hande Harmancı (B
 M Dünya Sağlık Örgütü) Konu: Globalleşen Dünyada Hepatit\n11:45-12:15 Soru
 lar-yanıtlar\n12:15- 13:30 Yemek arası\n13:30-15:00 Panel-I Spor ve Hepati
 t Oturum Başkanı: Naci Arkan (Türkiye Spor Yazarları Derneği Başkanı) Prof
 . Dr. Yılmaz Çakaloğlu (Türk Karaciğer Vakfı Başkanı)“Sporcuların Hepatitt
 en Korunması ve Tedavisi”Prof. Dr. Bülent Bayraktar (İ.Ü. Beden Eğitimi ve
  Spor Y.O. Müdürü)“Genç Sporcular ve Spor Öğrencileri Açısından Hepatit Bi
 lincinin Geliştirilmesi”Turgay Renklikurt (Spor Yöneticisi - Yazar)“Spor v
 e Hepatit”\n15:00 -15:15 Kahve arası\n15:15-16:45 Panel-II Çalışma Ortamın
 da Hepatit Oturum Başkanı : Prof. Dr. Erman Tuncer (İ.Ü. Diş Hekimliği Fak
 ültesi Öğretim Üyesi) Yrd. Doç. Dr. Emre Ertan (M.Ü. Hukuk Fakültesi Öğret
 im Üyesi-TKV) “ Hepatit Taşıyıcılığı İş Sözleşmesinin Feshinde Geçerli Bir
  Neden midir?”Dr. Zülal Ateşoğlu (İşyeri Hekimleri Derneği Yönetim Kurulu 
 Üyesi)“İşyeri Hekimliğinde Hepatitli Çalışana Yaklaşım” Hüseyin Bozdağ (Ye
 mek Sanayicileri Dernekleri Federasyonu Başkanı)“Gıda Sanayii Çalışanları 
 Açısından Hepatit”\n3. gün: 9 Kasım 201310:00-11:30 Panel-III Hepatitlerin
  Değişen EpidemiyolojisiOturum Başkanı: Prof. Dr. Sadakat Özdil (Türk Kara
 ciğer Vakfı) Prof. Dr. Fehmi Tabak (Cerrahpaşa Tıp Fakültesi Öğretim Üyesi
 -VHSD) “Dünyada ve Türkiye’de Hepatitlerin Epidemiyolojisi” Doç. Dr. Birgü
 l Mete (Cerrahpaşa Tıp Fakültesi Öğretim Üyesi) “Viral Hepatitlerin Bulaşm
 a Yolları” Doç. Dr. Selma Tosun (İzmir Bozyaka Eğitim Araştırma Hastanesi-
 VHSD)“Sağlık Çalışanları ve Hepatit”\n11:30-11:45 Kahve arası\n11:45-13:15
  Panel-IV Uluslararası İlişkiler ve HepatitOturum Başkanı: Prof. Dr. Rauf 
 Versan (İ.Ü. Siyasal Bilgiler Fakültesi Öğretim Üyesi)Av. Elif Selen Ay (B
 M Mülteci Örgütü İstanbul Saha Ofis Müdürü)“Mültecilerin Sağlık Sorunları 
 Çerçevesinde Bulaşıcı Hastalıklar ve Hepatit” Uz. Dr. Özlem Altıntaş Aydın
  (Haseki Eğitim Araştırma Hastanesi)“Mültecilerde Hepatit Sorunu” Tove Fri
 sch ( (ELPA-Avrupa Karaciğer Hastaları Derneği Danışma Kurulu Üyesi ) “Hep
 atit Stratejilerini Belirleyen Uluslararası Sivil Toplum Kuruluşlarının So
 n Çalışmaları”\n13:15-14:30 Yemek arası\n14:30-16:00 Hasta ForumuForum Yön
 eticisi : Av. Ümit Erdem (İstanbul Barosu Sağlık Hukuku Merkezi Başkanı)\n
 16:00 Kapanış
DTSTART:20131107T050000Z
DTEND:20131109T140000Z
GEO:00;0
LOCATION:İstanbul Üniversitesi Merkez Yerleşke Bahçesi ve  İstanbul Ünivers
 itesi Kongre Kültür Merkezi-Beyazıt
ORGANIZER:
SEQUENCE:1
SUMMARY:I. Ulusal Sosyal Yönleriyle Hepatit Sempozyumu
TRANSP:OPAQUE
URL:http://www.tkcv.org/vakif-hakkinda/etkinlikler/bitmis-etkinlikler/19-ul
 usal-sosyal-yonleriyle-hepatit-sempozyumu
END:VEVENT
END:VCALENDAR
