BEGIN:VCALENDAR
VERSION:2.0
PRODID:-//Türk Karaciğer Vakfı//NONSGML kigkonsult.se iCalcreator 2.41.92//
CALSCALE:GREGORIAN
METHOD:PUBLISH
UID:39373735-3665-4632-b164-313835336230
X-WR-CALNAME:iCagenda
X-WR-CALDESC:Event Management Extension for Joomla!
X-WR-RELCALID:3E26604A-50F4-4449-8B3E-E4F4932D05B5
X-WR-TIMEZONE:Europe/Istanbul
BEGIN:VTIMEZONE
TZID:Europe/Istanbul
TZUNTIL:20151108T010000Z
BEGIN:STANDARD
TZNAME:EET
DTSTART:20131027T040000
TZOFFSETFROM:+0300
TZOFFSETTO:+0200
RDATE:20141026T040000
END:STANDARD
BEGIN:DAYLIGHT
TZNAME:EEST
DTSTART:20130331T030000
TZOFFSETFROM:+0200
TZOFFSETTO:+0300
RDATE:20140331T030000
RDATE:20150329T030000
END:DAYLIGHT
END:VTIMEZONE
BEGIN:VEVENT
UID:38396535-3230-4861-b235-366434663038
DTSTAMP:20260423T113837Z
CATEGORIES:Seminer
CLASS:PUBLIC
DESCRIPTION;ALTREP="CID:<FFFF__=0ABBE548DFE235B58f9e8a93d@coffeebean.com>":
 &nbsp\;&nbsp\;\nİşyeri Hekimleri Semineri\nDüzenleyenler: &nbsp\;TKV (Türk
  Karaciğer Vakfı)HepYaşam Derneği&nbsp\; (Hepatitle Yaşam Hasta ve Hasta Y
 akınları Toplumsal Bilgilendirme\, Dayanışma ve Yardımlaşma Derneği)İşyeri
  Hekimleri Derneği\nPROGRAM\n13.30 &nbsp\;&nbsp\;Kayıt ve AçılışDr. Şevket
  Aksoy (İşyeri Hekimleri Derneği YK Üyesi)Prof. Dr. Yılmaz Çakaloğlu (TKV 
 Başkanı)\nBİRİNCİ OTURUM\n14.00-15.00&nbsp\;Toplumsal ve Sosyal Bir Sorun 
 Olarak HepatitlerOturum Başkanları: Şevket Aksoy\, Yılmaz Çakaloğlu\nSosya
 l Bir Sorun Olarak HepatitlerDr. Hilal Ünalmış Duda (Ph.D) (HepYaşam Drn. 
 Bşk. ve TKV Yönetim Kurulu Üyesi)\nÇalışma ve İş Hukuku Açısından Hepatitl
 i Çalışana YaklaşımYrd. Doç. Dr. Emre Ertan (Marmara Ü. Öğr. Üyesi\, TKV Y
 önetim Kurulu Üyesi)\nİşyeri Hekimliğinde Hepatitli Çalışana YaklaşımDr. Z
 ülal Ateşoğlu (İşyeri Hekimleri Derneği Yönetim Kurulu Üyesi)\n15.00-15.15
 &nbsp\;&nbsp\; &nbsp\;Kahve arası\nİKİNCİ OTURUM\n15.15-16.15&nbsp\;Hepati
 tler ve Diğer Karaciğer Hastalıklarına YaklaşımOturum Başkanları: Şevket A
 ksoy\, Yılmaz Çakaloğlu\nKaraciğer Hastalığını Düşündüren Belirti ve Bulgu
 ların YorumlanmasıDr. Koray Tuncer&nbsp\; (TKV Yönetim Kurulu Üyesi)\nVira
 l Hepatitlerin Tanısı\, Ayırıcı Tanısı ve TedavisiProf. Dr. Yılmaz Çakaloğ
 lu&nbsp\; (TKV Başkanı)\nMeslek Hastalıkları açısından Karaciğer: İş Sağlı
 ğında Kimyasalların&nbsp\; Hepatotoksisite Riskinin YönetilmesiDr.Özkan Ka
 an Karadağ ( M.D.) İş Sağlığı Bilim Uzmanı ( MSc )\n16.15-16.30&nbsp\;Soru
 lar ve Katkılar\n16.30&nbsp\;&nbsp\;Sertifika Töreni ve Toplu Fotoğraf Çek
 imi\n16.45&nbsp\;&nbsp\;Kapanış\nNot: Seminer Ücretsizdir.
DTSTART:20140201T113000Z
DTEND:20140201T153000Z
GEO:+41.055042;+28.970051
LOCATION:Memorial Şişli Hastanesi  Konferans Salonu
ORGANIZER:
SEQUENCE:1
SUMMARY:Viral Hepatitler ve Diğer Karaciğer Hastalıkları
TRANSP:OPAQUE
URL:http://www.tkcv.org/vakif-hakkinda/etkinlikler/bitmis-etkinlikler/17-vi
 ral-hepatitler-ve-diger-karaciger-hastaliklari?layout=vcal
END:VEVENT
END:VCALENDAR
