BEGIN:VCALENDAR
VERSION:2.0
PRODID:-//Türk Karaciğer Vakfı//NONSGML kigkonsult.se iCalcreator 2.41.92//
CALSCALE:GREGORIAN
METHOD:PUBLISH
UID:66356264-3235-4065-b236-616434633462
X-WR-CALNAME:iCagenda
X-WR-CALDESC:Event Management Extension for Joomla!
X-WR-RELCALID:3E26604A-50F4-4449-8B3E-E4F4932D05B5
X-WR-TIMEZONE:Europe/Istanbul
BEGIN:VTIMEZONE
TZID:Europe/Istanbul
TZUNTIL:20151108T010000Z
BEGIN:STANDARD
TZNAME:EET
DTSTART:20131027T040000
TZOFFSETFROM:+0300
TZOFFSETTO:+0200
RDATE:20141026T040000
END:STANDARD
BEGIN:DAYLIGHT
TZNAME:EEST
DTSTART:20130331T030000
TZOFFSETFROM:+0200
TZOFFSETTO:+0300
RDATE:20140331T030000
RDATE:20150329T030000
END:DAYLIGHT
END:VTIMEZONE
BEGIN:VEVENT
UID:34666434-3965-4733-a561-633338653530
DTSTAMP:20260420T085157Z
CATEGORIES:Eğitim Toplantısı
CLASS:PUBLIC
DESCRIPTION;ALTREP="CID:<FFFF__=0ABBE548DFE235B58f9e8a93d@coffeebean.com>":
 Sayın meslektaşlarım\,\nTürk Karaciğer Vakfı\, 1992 yılında Prof.Dr.Muzaff
 er Gürakar başkanlığında bir çok hayırsever iş adamı ve hasta yakını gönül
 lüler tarafından kurulmuş ve o tarihten bu yana halkımızı bilgilendirme ve
  başta viral hepatitler olmak üzere hepatobiliyer hastalıklar ile ilgili s
 orunlarının çözümünde yardımcı olma\, ayrıca toplantılar ve yayınlar yolu 
 ile toplumsal eğitim faliyetlerinde bulunma gibi görevlerini yerine getirm
 eye devam etmektedir.\nYaklaşık 2 yıldır başkanlığını sürdürdüğüm vakfımız
 \, yeni dönemde “Karaciğerim“ isimli süreli bir yayın organı çıkarmaya baş
 lamış ve hekimlere yönelik eğitim faaliyetlerine de ağırlıklı olarak katıl
 ma fikrini benimsemiştir. Bu bağlamda İstanbul Aile Hekimleri Derneği (İST
 AHED) ile işbirliği yaparak\, özellikle ve öncelikle İstanbul ilinde çalış
 makta olan aile hekimlerine yönelik “Viral Hepatitler ve Diğer Hepatobiliy
 er Hastalıklara Klinik Yaklaşım” konulu klinik çalışma toplantısının ilkin
 i 29 Mart 2014 tarihinde Florence Nightingale İstanbul Hastanesi konferans
  salonunda yapılması kararlaştırılmıştır. Asıl amacın birinci basamak sağl
 ık hizmeti veren meslektaşlarımızın ülkemizin en önemli sağlık sorunlarınd
 an birisi olan “Viral Hepatitler” ve diğer karaciğer hastalıkları konusund
 a klinik belirti ve bulgularla laboratuvar testleri doğru değerlendirmeler
 i ve uygun tanı yaklaşımında bulunmaları ve gereken durumlarda hastayı ilg
 ili branşın uzman hekimlerine veya referans merkezlerine göndermelerini ve
  hastaların doğru ve hızlı hizmet almalarını sağlamak konusunda bilgilerim
 izi paylaşmak olan bu toplantıya 100 civarında hekimi arkadaşımızın katılm
 ası planlanmıştır. Bir arada daha iyiye ulaşmak\, hastalarımıza daha yarar
 lı olmak için çaba göaterelim. Sizin ilginiz ve katkılarınızla bu toplantı
  amacına ulaşacaktır düşüncesindeyim. İSTAHED yönetim kurulu üyelerine işb
 irliği ve yapıcı tutumları\, toplantıda görev alan arkadaşlarıma da göster
 dikleri özveri için teşekkür ederim. Saygılarımla.\nProf.Dr.Yılmaz Çakaloğ
 luTKV Başkanı\n\n&nbsp\;“VİRAL HEPATİTLER ve DİĞER HEPATOBİLİYER HASTALIKL
 ARA KLİNİK YAKLAŞIM”\nPROGRAM\n09.30-10.00: Kayıt ve Hoşgeldiniz İkramı\n1
 . Oturum Başkanlar: Yılmaz Çakaloğlu\, Murat Akyıldız 10.00-10.20 Türkiye’
 de Viral Hepatit Epidemiyolojisi\, Nurdan Tözün 10.20-10.40 Akut Viral Hep
 atitler ve Aktif Korunma\, Reşat Özaras10.40-11.00 Kronik Viral Hepatitler
 \, Yılmaz Çakaloğlu11.00-11.20 Alkol Dışı Karaciğer Yağlanması-İltihabı\, 
 Yusuf Yılmaz\n11.20-11.50 Kahve arası\n2.Oturum Başkanlar: Nurdan Tözün\, 
 Reşat Özaras12.00-12.20 Organ Nakli ve Viral Hepatitler\, Murat Akyıldız12
 .20-12.40 İlaca Bağlı ve Toksik Karaciğer Hastalıkları\, Binnur Pınarbaşı1
 2.40-13.00 Alkole Bağlı Karaciğer Hastalıkları\, Arzu Tiftikçi\n13.00-14.0
 0 Yemek\n3.Oturum Başkanlar: Binur Pınarbaşı\, Yusuf Yılmaz 14.00-14.30 Ka
 raciğerde Yer Kaplayan Lezyonlar: Tanı\, Ayırıcı Tanı ve Selim Patolojiler
 de İzlenecek Yol\, Koray Güven14.30-15.15 Vaka Sunumları ve Tartışma\, Kor
 ay Tuncer\, Yılmaz Çakaloğlu&nbsp\;Kolestaz\, Otoimmun Hepatit\, Wilson ha
 stalığı\, HELLP sendromu\, Kronik Viral Hepatit ve Hepatoselüler Karsinoma
 \, Posttransplant Viral Hepatit&nbsp\;\n15.15 Kapanış ve Katılım Belgesi V
 erilmesi\n\nGörev alanlar\n\nProf .Dr. Nurdan TÖZÜN\, Acıbadem Ü Tıp Fak\,
  Gastroenteroloji BD Başkanı\, İstanbul\nProf.Dr. Yılmaz ÇAKALOĞLU\, Memor
 ial Şişli Hast\, Gastroenteroloji-Hepatoloji Bölümü\, İstanbul\nProf.Dr.Ko
 ray GÜVEN\, İÜ İstanbul Tıp Fak\, Radyoloji AB Dalı Öğretim Üyesi\, İstanb
 ul\nProf.Dr. Reşat ÖZARAS\, İÜ Cerrahpaşa Tıp Fak.\, İç Hast ABD\, İnfeksi
 yon Hast. BD Öğr Üyesi\, İstanbul\nDoç.Dr. Murat AKYILDIZ\, Bilim Ü Tıp Fa
 k\, Gastronetreoloji BD ve Karaciğer Nakli Birimi\, İstanbul\nDoç.Dr. Binn
 ur PINARBAŞI\, Bahçeşehir Ü Tıp Fak\, Gastroenteroloji BD Öğretim Üyesi\, 
 İstanbul\nDoç.Dr.Arzu TİFTİKÇİ\, Acıbadem Ü Tıp Fak\, Gastroenteroloji BD 
 Öğretim Üyesi\, İstanbul\nUz.Dr.Koray TUNCER\, Memorial Şişli Hastanesi\, 
 Gastroenteroloji-Hepatoloji Bölümü\, İstanbul
DTSTART:20140329T073000Z
DTEND:20140329T131500Z
GEO:+41.069378;+28.983448
LOCATION:Florence Nightingale İstanbul Hastanesi Konferans Salonu
ORGANIZER;CN=:mailto:ycoglu@gmail.com
SEQUENCE:1
SUMMARY:Viral Hepatitler ve Diğer Hepatobiliyer Hastalıklara Klinik Yaklaşı
 m
TRANSP:OPAQUE
URL:http://www.tkcv.org/vakif-hakkinda/etkinlikler/bitmis-etkinlikler/16-vi
 ral-hepatitler-ve-diger-hepatobiliyer-hastaliklara-klinik-yaklasim
END:VEVENT
END:VCALENDAR
