BEGIN:VCALENDAR
VERSION:2.0
PRODID:-//Türk Karaciğer Vakfı//NONSGML kigkonsult.se iCalcreator 2.41.92//
CALSCALE:GREGORIAN
METHOD:PUBLISH
UID:65623431-6439-4764-a530-626136623936
X-WR-CALNAME:iCagenda
X-WR-CALDESC:Event Management Extension for Joomla!
X-WR-RELCALID:3E26604A-50F4-4449-8B3E-E4F4932D05B5
X-WR-TIMEZONE:Europe/Istanbul
BEGIN:VTIMEZONE
TZID:Europe/Istanbul
TZUNTIL:20160327T010000Z
BEGIN:STANDARD
TZNAME:EET
DTSTART:20131027T040000
TZOFFSETFROM:+0300
TZOFFSETTO:+0200
RDATE:20141026T040000
RDATE:20151108T040000
END:STANDARD
BEGIN:DAYLIGHT
TZNAME:EEST
DTSTART:20140331T030000
TZOFFSETFROM:+0200
TZOFFSETTO:+0300
RDATE:20150329T030000
END:DAYLIGHT
END:VTIMEZONE
BEGIN:VEVENT
UID:39376666-6164-4361-b533-363631306139
DTSTAMP:20260419T134044Z
CATEGORIES:Etkinlik
CLASS:PUBLIC
DESCRIPTION;ALTREP="CID:<FFFF__=0ABBE548DFE235B58f9e8a93d@coffeebean.com>":
 10.30 Kadıköy İskele Meydanı’nda toplanmaya başlıyoruz.&nbsp\; &nbsp\; &nb
 sp\; &nbsp\; &nbsp\; Çadırımızı kuruyoruz. &nbsp\; &nbsp\; &nbsp\; &nbsp\;
  &nbsp\; Masalarımızı ve pankartlarımızı açıyoruz.&nbsp\; &nbsp\; &nbsp\; 
 &nbsp\; &nbsp\; Broşürlerimizi\, rozetlerimizi ve balonlarımızı hazırlıyor
 uz.11.00 Bando çalmaya başlıyor.11.15 Atatürk Anıtı’na çelenk koyuyoruz.11
 .20 Pandomim gösterisi (Sessiz Salgın olan Hepatit için Sessiz Sanatın gös
 terisi)11.30 Doktorlar\, vakıf ve dernek yöneticileri halkla buluşuyor\, h
 epatit konusunda halk bilgilendiriliyor.12.00 Balonlarımızı hepatite dikka
 t çekmek için müzik eşliğinde uçuruyoruz.\nGün boyu hepatit çadırını ziyar
 et eden halkımızı bilgilendirme çalışmalarını sürdürüyoruz.Bando ve pandom
 im gösterisi aralıklarla devam ediyor.
DTSTART:20140722T073000Z
DTEND:20140722T090000Z
GEO:00;0
LOCATION:Kadıköy İskele Meydanı
ORGANIZER:
SEQUENCE:1
SUMMARY:Dünya Hepatit Günü - 2014 Etkinliği
TRANSP:OPAQUE
URL:http://www.tkcv.org/vakif-hakkinda/etkinlikler/bitmis-etkinlikler/13-du
 nya-hepatit-gunu-2014-etkinligi
END:VEVENT
END:VCALENDAR
