BEGIN:VCALENDAR
VERSION:2.0
PRODID:-//Türk Karaciğer Vakfı//NONSGML kigkonsult.se iCalcreator 2.41.92//
CALSCALE:GREGORIAN
METHOD:PUBLISH
UID:62616130-3033-4366-a263-393265653830
X-WR-CALNAME:iCagenda
X-WR-CALDESC:Event Management Extension for Joomla!
X-WR-RELCALID:3E26604A-50F4-4449-8B3E-E4F4932D05B5
X-WR-TIMEZONE:Europe/Istanbul
BEGIN:VTIMEZONE
TZID:Europe/Istanbul
TZUNTIL:20160327T010000Z
BEGIN:STANDARD
TZNAME:EET
DTSTART:20131027T040000
TZOFFSETFROM:+0300
TZOFFSETTO:+0200
RDATE:20141026T040000
RDATE:20151108T040000
END:STANDARD
BEGIN:DAYLIGHT
TZNAME:EEST
DTSTART:20140331T030000
TZOFFSETFROM:+0200
TZOFFSETTO:+0300
RDATE:20150329T030000
END:DAYLIGHT
END:VTIMEZONE
BEGIN:VEVENT
UID:30653164-3864-4464-a638-336239646133
DTSTAMP:20260419T134043Z
CATEGORIES:Etkinlik
CLASS:PUBLIC
DESCRIPTION;ALTREP="CID:<FFFF__=0ABBE548DFE235B58f9e8a93d@coffeebean.com>":
 Sultanahmet Meydanı Ramazan Şenlikleri’nde halkı bilgilendirme ve broşür d
 ağıtımı
DTSTART:20140723T160000Z
DTEND:20140723T190000Z
GEO:00;0
LOCATION:Sultanahmet Meydanı
ORGANIZER:
SEQUENCE:1
SUMMARY:Dünya Hepatit Günü - 2014 Etkinliği
TRANSP:OPAQUE
URL:http://www.tkcv.org/vakif-hakkinda/etkinlikler/bitmis-etkinlikler/12-du
 nya-hepatit-gunu-2014-etkinligi
END:VEVENT
END:VCALENDAR
