BEGIN:VCALENDAR
VERSION:2.0
PRODID:-//Türk Karaciğer Vakfı//NONSGML kigkonsult.se iCalcreator 2.41.92//
CALSCALE:GREGORIAN
METHOD:PUBLISH
UID:39363563-3537-4736-b339-393637663935
X-WR-CALNAME:iCagenda
X-WR-CALDESC:Event Management Extension for Joomla!
X-WR-RELCALID:3E26604A-50F4-4449-8B3E-E4F4932D05B5
X-WR-TIMEZONE:Europe/Istanbul
BEGIN:VTIMEZONE
TZID:Europe/Istanbul
TZUNTIL:20160327T010000Z
BEGIN:STANDARD
TZNAME:EET
DTSTART:20131027T040000
TZOFFSETFROM:+0300
TZOFFSETTO:+0200
RDATE:20141026T040000
RDATE:20151108T040000
END:STANDARD
BEGIN:DAYLIGHT
TZNAME:EEST
DTSTART:20140331T030000
TZOFFSETFROM:+0200
TZOFFSETTO:+0300
RDATE:20150329T030000
END:DAYLIGHT
END:VTIMEZONE
BEGIN:VEVENT
UID:66326131-3162-4636-b431-363064373462
DTSTAMP:20260419T133954Z
CATEGORIES:Etkinlik
CLASS:PUBLIC
DESCRIPTION;ALTREP="CID:<FFFF__=0ABBE548DFE235B58f9e8a93d@coffeebean.com>":
 Maltepe Sahil Ramazan Şenlikleri’nde bilgilendirme ve broşür dağıtımı.
DTSTART:20140724T160000Z
DTEND:20140724T190000Z
GEO:00;0
LOCATION:Maltepe Sahil
ORGANIZER:
SEQUENCE:1
SUMMARY:Dünya Hepatit Günü - 2014 Etkinliği
TRANSP:OPAQUE
URL:http://www.tkcv.org/vakif-hakkinda/etkinlikler/bitmis-etkinlikler/11-du
 nya-hepatit-gunu-2014-etkinligi
END:VEVENT
END:VCALENDAR
