BEGIN:VCALENDAR
VERSION:2.0
PRODID:-//Türk Karaciğer Vakfı//NONSGML kigkonsult.se iCalcreator 2.41.92//
CALSCALE:GREGORIAN
METHOD:PUBLISH
UID:63386538-3263-4961-b531-666364373535
X-WR-CALNAME:iCagenda
X-WR-CALDESC:Event Management Extension for Joomla!
X-WR-RELCALID:3E26604A-50F4-4449-8B3E-E4F4932D05B5
X-WR-TIMEZONE:Europe/Istanbul
BEGIN:VTIMEZONE
TZID:Europe/Istanbul
TZUNTIL:20160906T210000Z
BEGIN:STANDARD
TZNAME:EET
DTSTART:20131027T040000
TZOFFSETFROM:+0300
TZOFFSETTO:+0200
RDATE:20141026T040000
RDATE:20151108T040000
END:STANDARD
BEGIN:DAYLIGHT
TZNAME:EEST
DTSTART:20140331T030000
TZOFFSETFROM:+0200
TZOFFSETTO:+0300
RDATE:20150329T030000
RDATE:20160327T030000
END:DAYLIGHT
END:VTIMEZONE
BEGIN:VEVENT
UID:35616633-6337-4331-b266-383235646132
DTSTAMP:20260424T114008Z
CATEGORIES:Etkinlik
CLASS:PUBLIC
DESCRIPTION;ALTREP="CID:<FFFF__=0ABBE548DFE235B58f9e8a93d@coffeebean.com>":
 Bize g&ouml\;n&uuml\;l veren\, destek veren dostlarımız\,\nSizleri Vakfımı
 zın faaliyetlerine destek sağlamak amacı ile\, ERGUVAN Gezi Teknesi'nde d&
 uuml\;zenlediğimiz geleneksel g&uuml\;z d&ouml\;nemi kahvaltımıza bekliyor
 uz.\nYer : Kabataş İskelesi - Erguvan Gezi Teknesi\nSaygılarımızla.
DTSTART:20140928T073000Z
DTEND:20140928T103000Z
GEO:+41.033798;+28.993299
LOCATION:Kabataş İskelesi
ORGANIZER:
SEQUENCE:1
SUMMARY:Kahvaltı Etkinliğimiz
TRANSP:OPAQUE
URL:http://www.tkcv.org/vakif-hakkinda/etkinlikler/bitmis-etkinlikler/10-ka
 hvalti-etkinligimiz?layout=vcal
END:VEVENT
END:VCALENDAR
